BEGIN:VCALENDAR
VERSION:2.0
PRODID:-//Provoke - ECPv4.4.5//NONSGML v1.0//EN
CALSCALE:GREGORIAN
METHOD:PUBLISH
X-WR-CALNAME:Provoke
X-ORIGINAL-URL:https://www.provoke.com.au
X-WR-CALDESC:Events for Provoke
BEGIN:VEVENT
DTSTART;VALUE=DATE:20180223
DTEND;VALUE=DATE:20180304
DTSTAMP:20180227T060432
CREATED:20171113T153220Z
LAST-MODIFIED:20171113T153220Z
UID:3690-1519308000-1520171999@www.provoke.com.au
SUMMARY:Stanthorpe Apple and Grape Harvest Festival 2018
DESCRIPTION:The Stanthorpe Apple and Grape Harvest Festival returns this 2018!\nAs one of Queensland’s longest running events\, continues to celebrate the harvest of this well-known Southern Queensland food and wine region. Voted Queensland’s 9th favourite Iconic Event/Festival during the Queensland Q150 Celebrations\, the Stanthorpe Apple and Grape Harvest Festival is a “must do” on the Queensland events calendar.\n\nThe biennial festival is a celebration of the Granite Belt region’s produce and booming wine industry.  An average of 60\,000 people attend the festival and this is arguably Australia’s leading harvest festival having a successful track record spanning five decades.\n\nA highlight of the festival will be the Grand Parade packed with floats\, flags and local and visiting bands.\n\nAll of the main street events are FREE and fun for the whole family.
URL:https://www.provoke.com.au/event/stanthorpe-apple-grape-festival-2018/
LOCATION:Queensland\, 4380\, Australia
CATEGORIES:Nourish
ATTACH;FMTTYPE=image/jpeg:https://www.provoke.com.au/wp-content/uploads/2017/11/applegrape.jpg
END:VEVENT
BEGIN:VEVENT
DTSTART;VALUE=DATE:20180328
DTEND;VALUE=DATE:20180415
DTSTAMP:20180227T060432
CREATED:20171113T131817Z
LAST-MODIFIED:20171113T131817Z
UID:3681-1522159200-1523800799@www.provoke.com.au
SUMMARY:Bleach* Festival 2018
DESCRIPTION:Bleach* Festival illuminates\, reflects\, beams\, focuses and most importantly connects art\, with community.\nAs the signature\, annual multi-arts festival of the Gold Coast\, Bleach* Festival shines a light on our unique creativity and culture by presenting the city in a new way\, to new audiences\, both locally and internationally as Bleach* Festival builds towards the 2018 Commonwealth Games and beyond.\n\nQuintessentially Gold Coast\, Bleach* Festival celebrates the city’s best artists\, welcomes renowned Australian and international collaborators and engages a broad audience through a range of accessible events.\n\nUtilising the Gold Coast’s world famous natural landscapes as unconventional venues\, Bleach* Festival is a platform for expression\, curated to encourage community ownership and participation\, provide legacy building capacity and ultimately play a role amongst the world’s leading arts sector festivals.
URL:https://www.provoke.com.au/event/bleach-festival-2018/
LOCATION:Gold Coast\, Queensland\, Australia
CATEGORIES:Culture
ATTACH;FMTTYPE=image/jpeg:https://www.provoke.com.au/wp-content/uploads/2017/11/20280240_1578982722165665_2208243445315742452_o.jpg
END:VEVENT
BEGIN:VEVENT
DTSTART;VALUE=DATE:20180404
DTEND;VALUE=DATE:20180415
DTSTAMP:20180227T060432
CREATED:20171113T153753Z
LAST-MODIFIED:20171113T153753Z
UID:3692-1522764000-1523800799@www.provoke.com.au
SUMMARY:Gold Coast 2018 Commonwealth Games
DESCRIPTION:The pinnacle of Queensland’s world-class events line-up\, the Gold Coast 2018 Commonwealth Games will marry electrifying sporting action with extraordinary arts and culture entertainment and stunning natural surroundings to create a spectacle with a uniquely Queensland flavour.\nWitness greatness rarely seen as this international celebration of sport and camaraderie takes over the Sunshine State for 11 incredible days. This Gold Coast 2018 Commonwealth Games\, is one blockbuster event where the action won’t be confined to the stadium.\n\nImmerse yourself in Festival 2018\, an inspirational arts and cultural program that will celebrate the laid back Queensland lifestyle\, or take a break from the trackside drama to discover the rest of this spectacular state - home to ancient rainforests\, outback plains\, pristine beaches and the world-famous Great Barrier Reef.\n\nQueensland – Just the place to experience the world’s best live events.
URL:https://www.provoke.com.au/event/gold-coast-2018-commonwealth-games/
LOCATION:Gold Coast\, Queensland\, Australia
CATEGORIES:Culture,Nourish
ATTACH;FMTTYPE=image/jpeg:https://www.provoke.com.au/wp-content/uploads/2017/11/hero-half-e1510551435178.jpg
END:VEVENT
BEGIN:VEVENT
DTSTART;VALUE=DATE:20180417
DTEND;VALUE=DATE:20180429
DTSTAMP:20180227T060432
CREATED:20171113T132427Z
LAST-MODIFIED:20171113T132427Z
UID:3684-1523887200-1525010399@www.provoke.com.au
SUMMARY:Gold Coast Film Festival 2018
DESCRIPTION:Walk the red carpet on Gold Coast Film Festival's 2018 opening night alongside actors\, filmmakers and film crew. Learn from Australia’s leading producers\, writers and directors in intimate seminars and workshops.\nGold Coast Film Festival 2018 will captivate with internationally acclaimed dramas\, comedies and genre films\, locally made indie gems\, engaging documentaries\, family features\, anime and the scariest horror films.\n\nWith over 100 films\, panels\, parties and events across the Gold Coast\, the Gold Coast Film Festival is an annual celebration of film and film-making from one of Australia’s top film-making locations – the Gold Coast.\n\nSpecial events will again include Women in Film screenings and events and SIPFest\, the annual short film competition transforming Surfers Paradise beach into a vibrant and unique cinema featuring 12 cinematic masterpieces by emerging filmmakers from around Australia. YScreen – a selection of entertaining and intelligent films and workshops for children and teens is open to schools and families.\n\nDiscover More Here
URL:https://www.provoke.com.au/event/gold-coast-film-festival-2018/
LOCATION:Gold Coast\, Queensland\, Australia
CATEGORIES:Culture
ATTACH;FMTTYPE=image/jpeg:https://www.provoke.com.au/wp-content/uploads/2017/11/Gold-Coast-Film-Festival1-990x279-e1510543457123.jpg
END:VEVENT
BEGIN:VEVENT
DTSTART;TZID=Australia/Brisbane:20180428T114500
DTEND;TZID=Australia/Brisbane:20180428T152000
DTSTAMP:20180227T060432
CREATED:20180214T122617Z
LAST-MODIFIED:20180214T122617Z
UID:3743-1524879900-1524892800@www.provoke.com.au
SUMMARY:Bite Sip Stroll 2018
DESCRIPTION:A Culinary Experience Like No Other\nBRISBANE’S TOP CHEFS SERVE UP FOOD AND WINE PAIRINGS AT FOUR OF QUEENSLAND MOST EXCLUSIVE RESTAURANTS\, AND YOU’RE INVITED!\n\n\n\nPush the culinary boundaries\, and indulge at four of Brisbane’s most awarded fine dining restaurants: Esquire\, Urbane\, Pony Dining and Otto Ristorante.\n“Bite Sip Stroll 2018 is an adventure for the culinary senses where everyone can eat\, drink\, and get a little merry\, all the while strolling through a beautiful city. At every point of the journey we are driven by a desire for quality\, joy\, and of course a LOVE for food and wine!”\nTake a stroll from restaurant to restaurant and experiencing the food\, wine and atmosphere of each. Plus this afternoon experience will not only delight your tastebuds\, it is all set within the beautiful inner city at some of Brisbane's best city locations.\n\nEach of the four restaurants designs a food and wine pairing especially for the event\, and you get to enjoy them all! Tickets will sell quick\, so make sure to book your spot now!\n\n\nPsst… it’s the perfect surprise gift! If you’re planning an intimate date night\, a fun night out with a friend\, or some quality time with your mum. No matter your reason\, this event promises to be a deliciously unique experience unlike any other…\n\n\nW: bitesipstroll.com.au\nA sneak peak into the restaurants chosen for Bite Sip Stroll 2018:\n[gallery link="file" ids="3761\,3760\,3759\,3758\,3757\,3756\,3755\,3754\,3753\,3752\,3751\,3750\,3749\,3748\,3747\,3746\,3745\,3744"]
URL:https://www.provoke.com.au/event/bite-sip-stroll-2018/
LOCATION:Queensland
CATEGORIES:Nourish
ATTACH;FMTTYPE=image/jpeg:https://www.provoke.com.au/wp-content/uploads/2018/02/Esquire_food.jpg
END:VEVENT
BEGIN:VEVENT
DTSTART;VALUE=DATE:20180517
DTEND;VALUE=DATE:20180520
DTSTAMP:20180227T060432
CREATED:20171113T133108Z
LAST-MODIFIED:20171113T133108Z
UID:3686-1526479200-1526824799@www.provoke.com.au
SUMMARY:Blues on Broadbeach 2018
DESCRIPTION:\nBLUES ON BROADBEACH MUSIC FESTIVAL\n\n\n\n\n\n\nThere will be plenty of national and internationally renowned artists heading to the Blues on Broadbeach Music Festival.\n\nThe FREE event is staged in the streets and in venues over four huge days throughout the popular Gold Coast hub has something for not only blues music lovers but fans of great entertainment\, with live music\, roving entertainment\, markets and much more it’s the perfect place to bring your friends and family.\n\nApart from being free\, what is so unique aboutthis music festival is that you can stay in the heart of the festival\, and everything is within walking distance.\n\n\n\n\n
URL:https://www.provoke.com.au/event/blues-broadbeach-2018/
LOCATION:Broadbeach\, Gold Coast\, QLD\, 4218\, Australia
CATEGORIES:Culture
ATTACH;FMTTYPE=image/jpeg:https://www.provoke.com.au/wp-content/uploads/2017/11/REM7313.jpg
END:VEVENT
END:VCALENDAR